BEGIN:VCALENDAR
VERSION:2.0
PRODID:-//ChamberMaster//Event Calendar 2.0//EN
METHOD:PUBLISH
X-PUBLISHED-TTL:P3D
REFRESH-INTERVAL:P3D
CALSCALE:GREGORIAN
BEGIN:VEVENT
DTSTART:20090212T030000Z
DTEND:20090212T030000Z
X-MICROSOFT-CDO-ALLDAYEVENT:FALSE
SUMMARY:3 Essentials to Growing any Business - O.N.E. (OneCoach Networking Event)
DESCRIPTION:Join us as we reveal the 3 Essentials to Growing any Business\;\n\nNetworking\n\nExpand your network by making contacts with up-and-coming local businesses\, have the opportunity to create alliances\, and gain solutions to attracting more customers to your business.\n\nMasterminding\n\nA mastermind group is simply an alliance of one or more individuals dedicating themselves to a specific goal. In this case\, that goal involves the growth of your business.\n\nDevelopment\n\nSharpen your business skills with noted author and speaker Karen Russo in a transformative experience of releasing fear\, superstition and struggles with money\, so that you and your business can make a powerful contribution to the world\, no matter what your current financial circumstances.
X-ALT-DESC;FMTTYPE=text/html:Join us as we reveal the 3 Essentials to Growing any Business\;\n\nNetworking\n\nExpand your network by making contacts with up-and-coming local businesses\, have the opportunity to create alliances\, and gain solutions to attracting more customers to your business.\n\nMasterminding\n\nA mastermind group is simply an alliance of one or more individuals dedicating themselves to a specific goal. In this case\, that goal involves the growth of your business.\n\nDevelopment\n\nSharpen your business skills with noted author and speaker Karen Russo in a transformative experience of releasing fear\, superstition and struggles with money\, so that you and your business can make a powerful contribution to the world\, no matter what your current financial circumstances. \n
LOCATION:BLANKSPACES on Wilshire\, just west of La Brea
UID:e.1702.151
SEQUENCE:3
DTSTAMP:20260422T112441Z
URL:https://members.bhcc2022.zanityusagolivetest.com/events/details/3-essentials-to-growing-any-business-o-n-e-onecoach-networking-event-02-11-2009-151
END:VEVENT

END:VCALENDAR
