BEGIN:VCALENDAR
VERSION:2.0
PRODID:-//ChamberMaster//Event Calendar 2.0//EN
METHOD:PUBLISH
X-PUBLISHED-TTL:P3D
REFRESH-INTERVAL:P3D
CALSCALE:GREGORIAN
BEGIN:VEVENT
DTSTART:20090307T180000Z
DTEND:20090307T200000Z
X-MICROSOFT-CDO-ALLDAYEVENT:FALSE
SUMMARY:Beverly Hills Bar Association- Barristers Roxbury Park Legal Aid Clinic
DESCRIPTION:The Beverly Hills Bar Association- Barristers hold a free legal clinic the first Saturday of every month (holidays excluded) at Roxbury Park.  This legal clinic is open to the public.  We have between 2-3 attorneys present from the Barristers to volunteer and answer questions regarding any legal issues.  Again\, this clinic is free to the public.
X-ALT-DESC;FMTTYPE=text/html:The Beverly Hills Bar Association- Barristers hold a free legal clinic the first Saturday of every month (holidays excluded) at Roxbury Park.  This legal clinic is open to the public.  We have between 2-3 attorneys present from the Barristers to volunteer and answer questions regarding any legal issues.  Again\, this clinic is free to the public.
LOCATION:On the corner of Olympic and S. Roxbury Dr.
UID:e.1702.152
SEQUENCE:3
DTSTAMP:20260422T100341Z
URL:https://members.bhcc2022.zanityusagolivetest.com/events/details/beverly-hills-bar-association-barristers-roxbury-park-legal-aid-clinic-03-07-2009-152
END:VEVENT

END:VCALENDAR
