BEGIN:VCALENDAR
VERSION:2.0
PRODID:-//ChamberMaster//Event Calendar 2.0//EN
METHOD:PUBLISH
X-PUBLISHED-TTL:P3D
REFRESH-INTERVAL:P3D
CALSCALE:GREGORIAN
BEGIN:VEVENT
DTSTART:20081224T080000Z
DTEND:20081226T040000Z
X-MICROSOFT-CDO-ALLDAYEVENT:FALSE
SUMMARY:Concerts for Humanity/Christmas/Channuka Celebration
DESCRIPTION:Concert for Humanity - A world conscious concert to inspire and give hope by the presence of all cultures and religions\, the voice of hope and thru the eyes and heart of Cantor Estherleon Schwartz in duet with Ivor Pyres.  Classical liturgical music into song and video.\n\nChristmas / Channuka - to celebrate life\n\nPuccini meets... Cantor Estherleon Schwartz and Ivor Pyres in duet Love and Inspiration Puccini arias - Sacred liturgical music Poetry the spoken word.  Story telling and healing for the soul.\n\nA memorable experience!
X-ALT-DESC;FMTTYPE=text/html:Concert for Humanity - A world conscious concert to inspire and give hope by the presence of all cultures and religions\, the voice of hope and thru the eyes and heart of Cantor Estherleon Schwartz in duet with Ivor Pyres.  Classical liturgical music into song and video.\n\nChristmas / Channuka - to celebrate life\n\nPuccini meets... Cantor Estherleon Schwartz and Ivor Pyres in duet Love and Inspiration Puccini arias - Sacred liturgical music Poetry the spoken word.  Story telling and healing for the soul.\n\nA memorable experience!\n
LOCATION:The Matrix Theater
UID:e.1702.120
SEQUENCE:3
DTSTAMP:20260422T141317Z
URL:https://members.bhcc2022.zanityusagolivetest.com/events/details/concerts-for-humanity-christmas-channuka-celebration-12-24-2008-120
END:VEVENT

END:VCALENDAR
