BEGIN:VCALENDAR
VERSION:2.0
PRODID:-//ChamberMaster//Event Calendar 2.0//EN
METHOD:PUBLISH
X-PUBLISHED-TTL:P3D
REFRESH-INTERVAL:P3D
CALSCALE:GREGORIAN
BEGIN:VEVENT
DTSTART;VALUE=DATE:20090325
DTEND;VALUE=DATE:20090403
TRANSP:TRANSPARENT
X-MICROSOFT-CDO-ALLDAYEVENT:TRUE
SUMMARY:Discover & Explore China
DESCRIPTION:Discover & Explore China \n        \n\n        \n        \n\n        Beverly Hills Chamber of Commerce has partnered with Chamber Discoveries to provide an opportunity to Discover & Explore China. This distinctive nine-day journey explores \n        \n            China\n        \n        's richness and flavor while providing an opportunity to connect with members. \n        \n\n        \n\n        Discover & Explore \n        \n            China\n        \n        \n        \n\n        Date: March 25   April 2\, 2009\n        \n    \n    \n        \n         \n        \n    \n    \n        Highlights:\n        \n    \n    \n        \n         \n        \n    \n    \n                   Round trip scheduled airfare\n        \n    \n    \n                   Round trip transfers between airports and hotels\n        \n    \n    \n                   Hotel luggage handling\n        \n    \n    \n                   7 nights hotel accommodation in 4 or 5 star hotels\n        \n    \n    \n                   20 meals including:  7 breakfasts\, 6 lunches\, and 7 dinners\n        \n    \n    \n                   City tours of \n        Beijing\n        & \n        \n            Shanghai\n        \n        \, visiting:\n        \n    \n    \n        o       \n        \n            Forbidden City\n        \n        \n        \n        \n    \n    \n        o       Great Wall\n        \n    \n    \n        o       \n        \n            \n                Summer\n            \n             \n            Palace\n            \n        \n        \n        \n        \n    \n    \n        o       \n        \n            \n                Temple\n            \n             of \n            Heaven\n            \n        \n        \n        \n        \n    \n    \n        o       \n        \n            \n                Jade\n            \n             \n            Buddha\n            Temple\n            \n        \n        \n        \n        \n    \n    \n        o       Yu Garden\n        \n    \n    \n        o       Old \n        \n            Shanghai\n        \n        Bazaar\n        \n    \n    \n                   Tour \n        Hangzhou\n        & \n        \n            Suzhou\n        \n        \, visiting:\n        \n    \n    \n        o       Garden of the Master of the Nets\n        \n    \n    \n        o       \n        \n            \n                Hanshan\n            \n             \n            Temple\n            \n        \n        \n        \n        \n    \n    \n        o       Embroidery Institute\n        \n    \n    \n        o       Dragon Well Tea \n        \n            Plantation\n        \n        \n        \n    \n    \n                   Boat ride on the famed \n        \n            West\n            Lake\n        \n        \n        \n    \n    \n                   Discovery Program guide\n        \n    \n    \n        \n         \n        \n    \n    \n        \n        \n        For further details\, download the Discover & Explore China flyer.
X-ALT-DESC;FMTTYPE=text/html:<html>\n<head>\n</head>\n<body>\n    <p class="MsoNormal" style="MARGIN: 0in 0in 0pt">\n        <span class="nlhead"><b style="mso-bidi-font-weight: normal"><u><span style="FONT-FAMILY: Arial">Discover &amp\; Explore China </span></u></b></span><b style="mso-bidi-font-weight: normal"><span style="FONT-FAMILY: Arial">\n        <br />\n        </span></b><span style="FONT-FAMILY: Arial">\n        <br /><?xml:namespace prefix = st1 \nns = "urn:schemas-microsoft-com:office:smarttags" / />\n        Beverly Hills Chamber of Commerce has partnered with Chamber Discoveries to provide an opportunity to Discover &amp\; Explore China. This distinctive nine-day journey explores \n        <st1:country-region w:st="on">\n            <st1:place w:st="on">China</st1:place>\n        </st1:country-region>\n        &rsquo\;s richness and flavor while providing an opportunity to connect with members. \n        <br />\n        <br />\n        <b>Discover &amp\; Explore \n        <st1:country-region w:st="on">\n            <st1:place w:st="on">China</st1:place>\n        </st1:country-region>\n        </b>\n        <br /><?xml:namespace prefix = o ns = "urn:schemas-microsoft-com:office:office" \n/ />\n        Date: March 25 &ndash\; April 2\, 2009<o:p></o:p>\n        </span>\n    </p>\n    <p class="MsoNormal" style="MARGIN: 0in 0in 0pt">\n        <span style="FONT-FAMILY: Arial">\n        <o:p>&nbsp\;</o:p>\n        </span>\n    </p>\n    <p class="MsoNormal" style="MARGIN: 0in 0in 0pt">\n        <b style="mso-bidi-font-weight: normal"><span style="FONT-FAMILY: Arial">Highlights:<o:p></o:p>\n        </span></b>\n    </p>\n    <p class="MsoNormal" style="MARGIN: 0in 0in 0pt">\n        <span style="FONT-FAMILY: Arial">\n        <o:p>&nbsp\;</o:p>\n        </span>\n    </p>\n    <p class="MsoNormal" style="MARGIN: 0in 0in 6pt 0.25in\; TEXT-INDENT: -0.25in\; mso-list: l0 level1 lfo1\; tab-stops: list .25in">\n        <span style="FONT-SIZE: 8pt\; FONT-FAMILY: Symbol\; mso-fareast-font-family: Symbol\; mso-bidi-font-size: 12.0pt\; mso-bidi-font-family: Symbol"><span style="mso-list: Ignore">&middot\;<span style="FONT: 7pt 'Times New Roman'">&nbsp\;&nbsp\;&nbsp\;&nbsp\;&nbsp\;&nbsp\;&nbsp\;&nbsp\;&nbsp\; </span></span></span><span style="FONT-FAMILY: Arial">Round trip scheduled airfare<o:p></o:p>\n        </span>\n    </p>\n    <p class="MsoNormal" style="MARGIN: 0in 0in 6pt 0.25in\; TEXT-INDENT: -0.25in\; mso-list: l0 level1 lfo1\; tab-stops: list .25in">\n        <span style="FONT-SIZE: 8pt\; FONT-FAMILY: Symbol\; mso-fareast-font-family: Symbol\; mso-bidi-font-size: 12.0pt\; mso-bidi-font-family: Symbol"><span style="mso-list: Ignore">&middot\;<span style="FONT: 7pt 'Times New Roman'">&nbsp\;&nbsp\;&nbsp\;&nbsp\;&nbsp\;&nbsp\;&nbsp\;&nbsp\;&nbsp\; </span></span></span><span style="FONT-FAMILY: Arial">Round trip transfers between airports and hotels<o:p></o:p>\n        </span>\n    </p>\n    <p class="MsoNormal" style="MARGIN: 0in 0in 6pt 0.25in\; TEXT-INDENT: -0.25in\; mso-list: l0 level1 lfo1\; tab-stops: list .25in">\n        <span style="FONT-SIZE: 8pt\; FONT-FAMILY: Symbol\; mso-fareast-font-family: Symbol\; mso-bidi-font-size: 12.0pt\; mso-bidi-font-family: Symbol"><span style="mso-list: Ignore">&middot\;<span style="FONT: 7pt 'Times New Roman'">&nbsp\;&nbsp\;&nbsp\;&nbsp\;&nbsp\;&nbsp\;&nbsp\;&nbsp\;&nbsp\; </span></span></span><span style="FONT-FAMILY: Arial">Hotel luggage handling<o:p></o:p>\n        </span>\n    </p>\n    <p class="MsoNormal" style="MARGIN: 0in 0in 6pt 0.25in\; TEXT-INDENT: -0.25in\; mso-list: l0 level1 lfo1\; tab-stops: list .25in">\n        <span style="FONT-SIZE: 8pt\; FONT-FAMILY: Symbol\; mso-fareast-font-family: Symbol\; mso-bidi-font-size: 12.0pt\; mso-bidi-font-family: Symbol"><span style="mso-list: Ignore">&middot\;<span style="FONT: 7pt 'Times New Roman'">&nbsp\;&nbsp\;&nbsp\;&nbsp\;&nbsp\;&nbsp\;&nbsp\;&nbsp\;&nbsp\; </span></span></span><span style="FONT-FAMILY: Arial">7 nights hotel accommodation in 4 or 5 star hotels<o:p></o:p>\n        </span>\n    </p>\n    <p class="MsoNormal" style="MARGIN: 0in 0in 6pt 0.25in\; TEXT-INDENT: -0.25in\; mso-list: l0 level1 lfo1\; tab-stops: list .25in">\n        <span style="FONT-SIZE: 8pt\; FONT-FAMILY: Symbol\; mso-fareast-font-family: Symbol\; mso-bidi-font-size: 12.0pt\; mso-bidi-font-family: Symbol"><span style="mso-list: Ignore">&middot\;<span style="FONT: 7pt 'Times New Roman'">&nbsp\;&nbsp\;&nbsp\;&nbsp\;&nbsp\;&nbsp\;&nbsp\;&nbsp\;&nbsp\; </span></span></span><span style="FONT-FAMILY: Arial">20 meals including:<span style="mso-spacerun: yes">&nbsp\; </span>7 breakfasts\, 6 lunches\, and 7 dinners<o:p></o:p>\n        </span>\n    </p>\n    <p class="MsoNormal" style="MARGIN: 0in 0in 6pt 0.25in\; TEXT-INDENT: -0.25in\; mso-list: l0 level1 lfo1\; tab-stops: list .25in">\n        <span style="FONT-SIZE: 8pt\; FONT-FAMILY: Symbol\; mso-fareast-font-family: Symbol\; mso-bidi-font-size: 12.0pt\; mso-bidi-font-family: Symbol"><span style="mso-list: Ignore">&middot\;<span style="FONT: 7pt 'Times New Roman'">&nbsp\;&nbsp\;&nbsp\;&nbsp\;&nbsp\;&nbsp\;&nbsp\;&nbsp\;&nbsp\; </span></span></span><span style="FONT-FAMILY: Arial">City tours of \n        <st1:City w:st="on">Beijing</st1:City>\n        &amp\; \n        <st1:City w:st="on">\n            <st1:place w:st="on">Shanghai</st1:place>\n        </st1:City>\n        \, visiting:<o:p></o:p>\n        </span>\n    </p>\n    <p class="MsoNormal" style="MARGIN: 0in 0in 0pt 1in\; TEXT-INDENT: -0.25in\; mso-list: l0 level2 lfo1\; tab-stops: list 1.0in">\n        <span style="FONT-FAMILY: 'Courier New'\; mso-fareast-font-family: 'Courier New'"><span style="mso-list: Ignore">o<span style="FONT: 7pt 'Times New Roman'">&nbsp\;&nbsp\;&nbsp\;&nbsp\;&nbsp\;&nbsp\; </span></span></span>\n        <st1:place w:st="on">\n            <span style="FONT-FAMILY: Arial">Forbidden City</span>\n        </st1:place>\n        <span style="FONT-FAMILY: Arial">\n        <o:p></o:p>\n        </span>\n    </p>\n    <p class="MsoNormal" style="MARGIN: 0in 0in 0pt 1in\; TEXT-INDENT: -0.25in\; mso-list: l0 level2 lfo1\; tab-stops: list 1.0in">\n        <span style="FONT-FAMILY: 'Courier New'\; mso-fareast-font-family: 'Courier New'"><span style="mso-list: Ignore">o<span style="FONT: 7pt 'Times New Roman'">&nbsp\;&nbsp\;&nbsp\;&nbsp\;&nbsp\;&nbsp\; </span></span></span><span style="FONT-FAMILY: Arial">Great Wall<o:p></o:p>\n        </span>\n    </p>\n    <p class="MsoNormal" style="MARGIN: 0in 0in 0pt 1in\; TEXT-INDENT: -0.25in\; mso-list: l0 level2 lfo1\; tab-stops: list 1.0in">\n        <span style="FONT-FAMILY: 'Courier New'\; mso-fareast-font-family: 'Courier New'"><span style="mso-list: Ignore">o<span style="FONT: 7pt 'Times New Roman'">&nbsp\;&nbsp\;&nbsp\;&nbsp\;&nbsp\;&nbsp\; </span></span></span>\n        <st1:place w:st="on">\n            <st1:PlaceName w:st="on">\n                <span style="FONT-FAMILY: Arial">Summer</span>\n            </st1:PlaceName>\n            <span style="FONT-FAMILY: Arial"> \n            <st1:PlaceType w:st="on">Palace</st1:PlaceType>\n            </span>\n        </st1:place>\n        <span style="FONT-FAMILY: Arial">\n        <o:p></o:p>\n        </span>\n    </p>\n    <p class="MsoNormal" style="MARGIN: 0in 0in 0pt 1in\; TEXT-INDENT: -0.25in\; mso-list: l0 level2 lfo1\; tab-stops: list 1.0in">\n        <span style="FONT-FAMILY: 'Courier New'\; mso-fareast-font-family: 'Courier New'"><span style="mso-list: Ignore">o<span style="FONT: 7pt 'Times New Roman'">&nbsp\;&nbsp\;&nbsp\;&nbsp\;&nbsp\;&nbsp\; </span></span></span>\n        <st1:place w:st="on">\n            <st1:PlaceType w:st="on">\n                <span style="FONT-FAMILY: Arial">Temple</span>\n            </st1:PlaceType>\n            <span style="FONT-FAMILY: Arial"> of \n            <st1:PlaceName w:st="on">Heaven</st1:PlaceName>\n            </span>\n        </st1:place>\n        <span style="FONT-FAMILY: Arial">\n        <o:p></o:p>\n        </span>\n    </p>\n    <p class="MsoNormal" style="MARGIN: 0in 0in 0pt 1in\; TEXT-INDENT: -0.25in\; mso-list: l0 level2 lfo1\; tab-stops: list 1.0in">\n        <span style="FONT-FAMILY: 'Courier New'\; mso-fareast-font-family: 'Courier New'"><span style="mso-list: Ignore">o<span style="FONT: 7pt 'Times New Roman'">&nbsp\;&nbsp\;&nbsp\;&nbsp\;&nbsp\;&nbsp\; </span></span></span>\n        <st1:place w:st="on">\n            <st1:PlaceName w:st="on">\n                <span style="FONT-FAMILY: Arial">Jade</span>\n            </st1:PlaceName>\n            <span style="FONT-FAMILY: Arial"> \n            <st1:PlaceName w:st="on">Buddha</st1:PlaceName>\n            <st1:PlaceType w:st="on">Temple</st1:PlaceType>\n            </span>\n        </st1:place>\n        <span style="FONT-FAMILY: Arial">\n        <o:p></o:p>\n        </span>\n    </p>\n    <p class="MsoNormal" style="MARGIN: 0in 0in 0pt 1in\; TEXT-INDENT: -0.25in\; mso-list: l0 level2 lfo1\; tab-stops: list 1.0in">\n        <span style="FONT-FAMILY: 'Courier New'\; mso-fareast-font-family: 'Courier New'"><span style="mso-list: Ignore">o<span style="FONT: 7pt 'Times New Roman'">&nbsp\;&nbsp\;&nbsp\;&nbsp\;&nbsp\;&nbsp\; </span></span></span><span style="FONT-FAMILY: Arial">Yu Garden<o:p></o:p>\n        </span>\n    </p>\n    <p class="MsoNormal" style="MARGIN: 0in 0in 6pt 1in\; TEXT-INDENT: -0.25in\; mso-list: l0 level2 lfo1\; tab-stops: list 1.0in">\n        <span style="FONT-FAMILY: 'Courier New'\; mso-fareast-font-family: 'Courier New'"><span style="mso-list: Ignore">o<span style="FONT: 7pt 'Times New Roman'">&nbsp\;&nbsp\;&nbsp\;&nbsp\;&nbsp\;&nbsp\; </span></span></span><span style="FONT-FAMILY: Arial">Old \n        <st1:City w:st="on">\n            <st1:place w:st="on">Shanghai</st1:place>\n        </st1:City>\n        Bazaar<o:p></o:p>\n        </span>\n    </p>\n    <p class="MsoNormal" style="MARGIN: 0in 0in 6pt 0.25in\; TEXT-INDENT: -0.25in\; mso-list: l0 level1 lfo1\; tab-stops: list .25in">\n        <span style="FONT-SIZE: 8pt\; FONT-FAMILY: Symbol\; mso-fareast-font-family: Symbol\; mso-bidi-font-size: 12.0pt\; mso-bidi-font-family: Symbol"><span style="mso-list: Ignore">&middot\;<span style="FONT: 7pt 'Times New Roman'">&nbsp\;&nbsp\;&nbsp\;&nbsp\;&nbsp\;&nbsp\;&nbsp\;&nbsp\;&nbsp\; </span></span></span><span style="FONT-FAMILY: Arial">Tour \n        <st1:City w:st="on">Hangzhou</st1:City>\n        &amp\; \n        <st1:place w:st="on">\n            <st1:City w:st="on">Suzhou</st1:City>\n        </st1:place>\n        \, visiting:<o:p></o:p>\n        </span>\n    </p>\n    <p class="MsoNormal" style="MARGIN: 0in 0in 0pt 1in\; TEXT-INDENT: -0.25in\; mso-list: l0 level2 lfo1\; tab-stops: list 1.0in">\n        <span style="FONT-FAMILY: 'Courier New'\; mso-fareast-font-family: 'Courier New'"><span style="mso-list: Ignore">o<span style="FONT: 7pt 'Times New Roman'">&nbsp\;&nbsp\;&nbsp\;&nbsp\;&nbsp\;&nbsp\; </span></span></span><span style="FONT-FAMILY: Arial">Garden of the Master of the Nets<o:p></o:p>\n        </span>\n    </p>\n    <p class="MsoNormal" style="MARGIN: 0in 0in 0pt 1in\; TEXT-INDENT: -0.25in\; mso-list: l0 level2 lfo1\; tab-stops: list 1.0in">\n        <span style="FONT-FAMILY: 'Courier New'\; mso-fareast-font-family: 'Courier New'"><span style="mso-list: Ignore">o<span style="FONT: 7pt 'Times New Roman'">&nbsp\;&nbsp\;&nbsp\;&nbsp\;&nbsp\;&nbsp\; </span></span></span>\n        <st1:place w:st="on">\n            <st1:PlaceName w:st="on">\n                <span style="FONT-FAMILY: Arial">Hanshan</span>\n            </st1:PlaceName>\n            <span style="FONT-FAMILY: Arial"> \n            <st1:PlaceType w:st="on">Temple</st1:PlaceType>\n            </span>\n        </st1:place>\n        <span style="FONT-FAMILY: Arial">\n        <o:p></o:p>\n        </span>\n    </p>\n    <p class="MsoNormal" style="MARGIN: 0in 0in 0pt 1in\; TEXT-INDENT: -0.25in\; mso-list: l0 level2 lfo1\; tab-stops: list 1.0in">\n        <span style="FONT-FAMILY: 'Courier New'\; mso-fareast-font-family: 'Courier New'"><span style="mso-list: Ignore">o<span style="FONT: 7pt 'Times New Roman'">&nbsp\;&nbsp\;&nbsp\;&nbsp\;&nbsp\;&nbsp\; </span></span></span><span style="FONT-FAMILY: Arial">Embroidery Institute<o:p></o:p>\n        </span>\n    </p>\n    <p class="MsoNormal" style="MARGIN: 0in 0in 6pt 1in\; TEXT-INDENT: -0.25in\; mso-list: l0 level2 lfo1\; tab-stops: list 1.0in">\n        <span style="FONT-FAMILY: 'Courier New'\; mso-fareast-font-family: 'Courier New'"><span style="mso-list: Ignore">o<span style="FONT: 7pt 'Times New Roman'">&nbsp\;&nbsp\;&nbsp\;&nbsp\;&nbsp\;&nbsp\; </span></span></span><span style="FONT-FAMILY: Arial">Dragon Well Tea \n        <st1:City w:st="on">\n            <st1:place w:st="on">Plantation</st1:place>\n        </st1:City>\n        <o:p></o:p>\n        </span>\n    </p>\n    <p class="MsoNormal" style="MARGIN: 0in 0in 6pt 0.25in\; TEXT-INDENT: -0.25in\; mso-list: l0 level1 lfo1\; tab-stops: list .25in">\n        <span style="FONT-SIZE: 8pt\; FONT-FAMILY: Symbol\; mso-fareast-font-family: Symbol\; mso-bidi-font-size: 12.0pt\; mso-bidi-font-family: Symbol"><span style="mso-list: Ignore">&middot\;<span style="FONT: 7pt 'Times New Roman'">&nbsp\;&nbsp\;&nbsp\;&nbsp\;&nbsp\;&nbsp\;&nbsp\;&nbsp\;&nbsp\; </span></span></span><span style="FONT-FAMILY: Arial">Boat ride on the famed \n        <st1:place w:st="on">\n            <st1:PlaceName w:st="on">West</st1:PlaceName>\n            <st1:PlaceType w:st="on">Lake</st1:PlaceType>\n        </st1:place>\n        <o:p></o:p>\n        </span>\n    </p>\n    <p class="MsoNormal" style="MARGIN: 0in 0in 6pt 0.25in\; TEXT-INDENT: -0.25in\; mso-list: l0 level1 lfo1\; tab-stops: list .25in">\n        <span style="FONT-SIZE: 8pt\; FONT-FAMILY: Symbol\; mso-fareast-font-family: Symbol\; mso-bidi-font-size: 12.0pt\; mso-bidi-font-family: Symbol"><span style="mso-list: Ignore">&middot\;<span style="FONT: 7pt 'Times New Roman'">&nbsp\;&nbsp\;&nbsp\;&nbsp\;&nbsp\;&nbsp\;&nbsp\;&nbsp\;&nbsp\; </span></span></span><span style="FONT-FAMILY: Arial">Discovery Program guide<o:p></o:p>\n        </span>\n    </p>\n    <p class="MsoNormal" style="MARGIN: 0in 0in 0pt">\n        <span style="FONT-FAMILY: Arial">\n        <o:p>&nbsp\;</o:p>\n        </span>\n    </p>\n    <p class="MsoNormal" style="MARGIN: 0in 0in 0pt">\n        <span style="FONT-FAMILY: Arial">\n        <o:p></o:p>\n        </span><span style="FONT-SIZE: 12pt\; FONT-FAMILY: Arial\; mso-fareast-font-family: 'Times New Roman'\; mso-ansi-language: EN-US\; mso-fareast-language: EN-US\; mso-bidi-language: AR-SA">For further details\, download the <a href="http://www.beverlyhillschamber.com/upload/China_Trip_Flyer.pdf" target="_blank"><span style="COLOR: windowtext">Discover &amp\; Explore China flyer.</span></a></span>\n    </p>\n</body>\n</html>\n
LOCATION:
UID:e.1702.115
SEQUENCE:3
DTSTAMP:20260422T095522Z
URL:https://members.bhcc2022.zanityusagolivetest.com/events/details/discover-explore-china-03-25-2009-115
END:VEVENT

END:VCALENDAR
