BEGIN:VCALENDAR
VERSION:2.0
PRODID:-//ChamberMaster//Event Calendar 2.0//EN
METHOD:PUBLISH
X-PUBLISHED-TTL:P3D
REFRESH-INTERVAL:P3D
CALSCALE:GREGORIAN
BEGIN:VEVENT
DTSTART;VALUE=DATE:20081119
DTEND;VALUE=DATE:20090101
TRANSP:TRANSPARENT
X-MICROSOFT-CDO-ALLDAYEVENT:TRUE
SUMMARY:Donald J Pliner Fall Sale
DESCRIPTION:DONALD J PLINER Fall SALE \n\n\n    Your Wish Has Been Granted\, you can save up to 33-50% off Women's and Men's Footwear/Handbags/Leathwear. All Sale items are final sale.
X-ALT-DESC;FMTTYPE=text/html:<p>\n    DONALD J PLINER Fall SALE \n</p>\n<p>\n    Your Wish Has Been Granted\, you can save up to 33-50% off Women's and Men's Footwear/Handbags/Leathwear. All Sale items are final sale.\n</p>
LOCATION:
UID:e.1702.112
SEQUENCE:3
DTSTAMP:20260422T141113Z
URL:https://members.bhcc2022.zanityusagolivetest.com/events/details/donald-j-pliner-fall-sale-11-19-2008-112
END:VEVENT

END:VCALENDAR
