BEGIN:VCALENDAR
VERSION:2.0
PRODID:-//ChamberMaster//Event Calendar 2.0//EN
METHOD:PUBLISH
X-PUBLISHED-TTL:P3D
REFRESH-INTERVAL:P3D
CALSCALE:GREGORIAN
BEGIN:VEVENT
DTSTART:20070711T190000Z
DTEND:20070711T213000Z
X-MICROSOFT-CDO-ALLDAYEVENT:FALSE
SUMMARY:EDC Luncheon 7-11-05
DESCRIPTION:EDC Luncheon 7-11-05
X-ALT-DESC;FMTTYPE=text/html:EDC Luncheon 7-11-05
LOCATION:
UID:e.1702.72
SEQUENCE:3
DTSTAMP:20260423T170315Z
URL:https://members.bhcc2022.zanityusagolivetest.com/events/details/edc-luncheon-7-11-05-07-11-2007-72
END:VEVENT

END:VCALENDAR
