BEGIN:VCALENDAR
VERSION:2.0
PRODID:-//ChamberMaster//Event Calendar 2.0//EN
METHOD:PUBLISH
X-PUBLISHED-TTL:P3D
REFRESH-INTERVAL:P3D
CALSCALE:GREGORIAN
BEGIN:VEVENT
DTSTART:20090206T023000Z
DTEND:20090206T040000Z
X-MICROSOFT-CDO-ALLDAYEVENT:FALSE
SUMMARY:Face the Facts: Beauty Secrets Unveiled by Dr. Zein Obagi
DESCRIPTION:On February 5\, 2009\, Dr. Zein Obagi\, THE leading expert in skin health\, will debunk some of the myths about anti-aging skin care. \nDr. Obagi is well-known as a maverick in skin care who doesn't always agree with his fellow dermatologists. Now\, once again\, in his tell-it-like-it-is\, no-holds-barred style\, he's going to speak about some of the new over-the-counter anti-aging products at a seminar at the Montage Hotel in Beverly Hills on February 5 from 6:30-8 pm. \nHis seminar\, called "Face the Facts"\, will reveal what products and procedures work\, and which ones are a waste of time and/or money. New research will allow him to debunk some of the myths about topical skin care\, as well as explain the results and risks of medical procedures. \n"Unfortunately\, the cosmetics industry has gotten greedy\, and pumped a lot of products on the market that are based on voodoo science and frou-frou ingredients\," Obagi says. "Let's get down to basics\, and talk about what really works. Because if you're a woman aged 40-plus\, you're old enough to know better." \nTo register for the free "Face the Facts" seminar\, call 310-275-3030 for more information and reservations.
X-ALT-DESC;FMTTYPE=text/html:On February 5\, 2009\, Dr. Zein Obagi\, THE leading expert in skin health\, will debunk some of the myths about anti-aging skin care. \nDr. Obagi is well-known as a maverick in skin care who doesn't always agree with his fellow dermatologists. Now\, once again\, in his tell-it-like-it-is\, no-holds-barred style\, he's going to speak about some of the new over-the-counter anti-aging products at a seminar at the Montage Hotel in Beverly Hills on February 5 from 6:30-8 pm. \nHis seminar\, called "Face the Facts"\, will reveal what products and procedures work\, and which ones are a waste of time and/or money. New research will allow him to debunk some of the myths about topical skin care\, as well as explain the results and risks of medical procedures. \n"Unfortunately\, the cosmetics industry has gotten greedy\, and pumped a lot of products on the market that are based on voodoo science and frou-frou ingredients\," Obagi says. "Let's get down to basics\, and talk about what really works. Because if you're a woman aged 40-plus\, you're old enough to know better." \nTo register for the free "Face the Facts" seminar\, call 310-275-3030 for more information and reservations. 
LOCATION:Montage Hotel Beverly Hills 225 N Canon Dr Beverly Hills\, CA 90210
UID:e.1702.145
SEQUENCE:3
DTSTAMP:20260422T112243Z
URL:https://members.bhcc2022.zanityusagolivetest.com/events/details/face-the-facts-beauty-secrets-unveiled-by-dr-zein-obagi-02-05-2009-145
END:VEVENT

END:VCALENDAR
