BEGIN:VCALENDAR
VERSION:2.0
PRODID:-//ChamberMaster//Event Calendar 2.0//EN
METHOD:PUBLISH
X-PUBLISHED-TTL:P3D
REFRESH-INTERVAL:P3D
CALSCALE:GREGORIAN
BEGIN:VEVENT
DTSTART:20090228T193000Z
DTEND:20090228T193000Z
X-MICROSOFT-CDO-ALLDAYEVENT:FALSE
SUMMARY:Gospel Brunch
DESCRIPTION:Gospel Brunch will be featuring the award-winning Extension Choir from \nWest Los Angeles\n. Their uplifting music is the perfect backdrop for \nChef Walter\nEckstein's spectacular brunch buffet.  $55 per adult\, $35 per children.  Call Ellen for reservations at (310) 360-6281 ext. 4.
X-ALT-DESC;FMTTYPE=text/html:<font face="Georgia"><span style="COLOR: black\; FONT-FAMILY: 'Footlight MT Light'"><font color="#707070"><?xml:namespace prefix = st1 ns = "urn:schemas-microsoft-com:office:smarttags" />Gospel Brunch will be featuring the award-winning Extension Choir from \n<st1:place w:st="on">West Los Angeles</st1:place>\n. Their uplifting music is the perfect backdrop for \n<st1:PersonName style="BACKGROUND-POSITION: left bottom\; BACKGROUND-IMAGE: url(res://ietag.dll/#34/#1001)\; BACKGROUND-REPEAT: repeat-x" tabIndex="0" w:st="on">Chef Walter</st1:PersonName><?xml:namespace prefix = o ns = "urn:schemas-microsoft-com:office:office" />\nEckstein&rsquo\;s spectacular brunch buffet.&nbsp\; $55 per adult\, $35 per children.&nbsp\; Call Ellen for reservations at (310) 360-6281 ext. 4.<o:p></o:p>\n</font></span></font>
LOCATION:
UID:e.1702.156
SEQUENCE:3
DTSTAMP:20260422T111529Z
URL:https://members.bhcc2022.zanityusagolivetest.com/events/details/gospel-brunch-02-28-2009-156
END:VEVENT

END:VCALENDAR
