BEGIN:VCALENDAR
VERSION:2.0
PRODID:-//ChamberMaster//Event Calendar 2.0//EN
METHOD:PUBLISH
X-PUBLISHED-TTL:P3D
REFRESH-INTERVAL:P3D
CALSCALE:GREGORIAN
BEGIN:VEVENT
DTSTART:20090518T180000Z
DTEND:20090523T070000Z
X-MICROSOFT-CDO-ALLDAYEVENT:FALSE
SUMMARY:Greenleaf 1 Year Anniversary
DESCRIPTION:To celebrate Greenleaf's one-year anniversary\, the restaurant is offering escalating discounts for the entire week of May 18th as a special thank you to everyone who made the first year such a success as well as 50% off all wine and beer!\n\nStarting Monday\, May 18th\, anyone dining at Greenleaf will receive the following discounts off everything in the store!: \nMonday - Wednesday\, May 18-20th - 11am to 8pm. 20% OFF.\nThursday\, May 21st - 11am to 8pm. 30% OFF.\nFriday\, May 22nd - 11am to 8pm. 40% OFF.\nSaturday\, May 23rd - 11am to 4pm. 50% OFF.\n\nAlso\, all week long: 50% OFF all wine and beer!
X-ALT-DESC;FMTTYPE=text/html:To celebrate Greenleaf's one-year anniversary\, the restaurant is offering escalating discounts for the entire week of May 18th as a special thank you to everyone who made the first year such a success as well as 50% off all wine and beer!\n\nStarting Monday\, May 18th\, anyone dining at Greenleaf will receive the following discounts off everything in the store!: \nMonday - Wednesday\, May 18-20th - 11am to 8pm. 20% OFF.\nThursday\, May 21st - 11am to 8pm. 30% OFF.\nFriday\, May 22nd - 11am to 8pm. 40% OFF.\nSaturday\, May 23rd - 11am to 4pm. 50% OFF.\n\nAlso\, all week long: 50% OFF all wine and beer!
LOCATION:Corner of Wilshire and Bedford
UID:e.1702.192
SEQUENCE:3
DTSTAMP:20260422T065507Z
URL:https://members.bhcc2022.zanityusagolivetest.com/events/details/greenleaf-1-year-anniversary-05-18-2009-192
END:VEVENT

END:VCALENDAR
