BEGIN:VCALENDAR
VERSION:2.0
PRODID:-//ChamberMaster//Event Calendar 2.0//EN
METHOD:PUBLISH
X-PUBLISHED-TTL:P3D
REFRESH-INTERVAL:P3D
CALSCALE:GREGORIAN
BEGIN:VEVENT
DTSTART:20081212T210000Z
DTEND:20081212T210000Z
X-MICROSOFT-CDO-ALLDAYEVENT:FALSE
SUMMARY:Hypnoswitch Holiday Discount
DESCRIPTION:Give the gift of hypnosis! Just imagine how excited your loved one will be at the prospect of finally being freed from an unwanted habit or self-sabotaging behavior. For a list of conditions that can be treated with hypnosis\, visit www.hypnoswitch.com. Gift certificates are available and can be delivered before the holidays.
X-ALT-DESC;FMTTYPE=text/html:Give the gift of hypnosis! Just imagine how excited your loved one will be at the prospect of finally being freed from an unwanted habit or self-sabotaging behavior. For a list of conditions that can be treated with hypnosis\, visit www.hypnoswitch.com. Gift certificates are available and can be delivered before the holidays.
LOCATION:Santa Monica Hypnosis Clinic
UID:e.1702.121
SEQUENCE:3
DTSTAMP:20260422T141153Z
URL:https://members.bhcc2022.zanityusagolivetest.com/events/details/hypnoswitch-holiday-discount-12-12-2008-121
END:VEVENT

END:VCALENDAR
