BEGIN:VCALENDAR
VERSION:2.0
PRODID:-//ChamberMaster//Event Calendar 2.0//EN
METHOD:PUBLISH
X-PUBLISHED-TTL:P3D
REFRESH-INTERVAL:P3D
CALSCALE:GREGORIAN
BEGIN:VEVENT
DTSTART:20081210T210000Z
DTEND:20081210T210000Z
X-MICROSOFT-CDO-ALLDAYEVENT:FALSE
SUMMARY:Hypnoswitch Holiday Promotion
DESCRIPTION:Give the gift of hypnosis! Just imagine how excited your loved one will be at the prospect of finally being freed from an unwanted habit or self-sabotaging behavior. For a list of conditions that can be treated with hypnosis\, visit www.hypnoswitch.com. Gift certiificates are available and can be delivered before the holidays.\nCall before January 15\, 2009 to claim your $50 gift!
X-ALT-DESC;FMTTYPE=text/html:Give the gift of hypnosis! Just imagine how excited your loved one will be at the prospect of finally being freed from an unwanted habit or self-sabotaging behavior. For a list of conditions that can be treated with hypnosis\, visit www.hypnoswitch.com. Gift certiificates are available and can be delivered before the holidays.\nCall before January 15\, 2009 to claim your $50 gift!\n
LOCATION:Santa Monica Office
UID:e.1702.127
SEQUENCE:3
DTSTAMP:20260422T141159Z
URL:https://members.bhcc2022.zanityusagolivetest.com/events/details/hypnoswitch-holiday-promotion-12-10-2008-127
END:VEVENT

END:VCALENDAR
