BEGIN:VCALENDAR
VERSION:2.0
PRODID:-//ChamberMaster//Event Calendar 2.0//EN
METHOD:PUBLISH
X-PUBLISHED-TTL:P3D
REFRESH-INTERVAL:P3D
CALSCALE:GREGORIAN
BEGIN:VEVENT
DTSTART:20081106T013000Z
DTEND:20081217T163000Z
X-MICROSOFT-CDO-ALLDAYEVENT:FALSE
SUMMARY:Jazz Night / Live Music in Cafe Rodeo
DESCRIPTION:Live music will be featured every Wednesday night from 5:30 pm to 8:30 pm. The hotel's Cafe Rodeo & Bar 360° serves upscale fusion cuisine and an enticing selection of martinis and wines by the glass. Beautifully orchestrated by Executive Chef Matthew Gladstone in a relaxed and sophisticated dining room/lounge setting\, Café Rodeo hits the perfect note for a mid-week break. Al fresco seating on Rodeo Drive is also available. No cover charge. Just enjoy!
X-ALT-DESC;FMTTYPE=text/html:Live music will be featured every Wednesday night from 5:30 pm to 8:30 pm. The hotel's Cafe Rodeo & Bar 360° serves upscale fusion cuisine and an enticing selection of martinis and wines by the glass. Beautifully orchestrated by Executive Chef Matthew Gladstone in a relaxed and sophisticated dining room/lounge setting\, Café Rodeo hits the perfect note for a mid-week break. Al fresco seating on Rodeo Drive is also available. No cover charge. Just enjoy! 
LOCATION:
UID:e.1702.105
SEQUENCE:3
DTSTAMP:20260422T141324Z
URL:https://members.bhcc2022.zanityusagolivetest.com/events/details/jazz-night-live-music-in-cafe-rodeo-11-05-2008-105
END:VEVENT

END:VCALENDAR
