BEGIN:VCALENDAR
VERSION:2.0
PRODID:-//ChamberMaster//Event Calendar 2.0//EN
METHOD:PUBLISH
X-PUBLISHED-TTL:P3D
REFRESH-INTERVAL:P3D
CALSCALE:GREGORIAN
BEGIN:VEVENT
DTSTART:20080711T150000Z
DTEND:20080711T163000Z
X-MICROSOFT-CDO-ALLDAYEVENT:FALSE
SUMMARY:July 2008 NB
DESCRIPTION:July 2008 NB
X-ALT-DESC;FMTTYPE=text/html:July 2008 NB
LOCATION:
UID:e.1702.83
SEQUENCE:3
DTSTAMP:20260422T215816Z
URL:https://members.bhcc2022.zanityusagolivetest.com/events/details/july-2008-nb-07-11-2008-83
END:VEVENT

END:VCALENDAR
