BEGIN:VCALENDAR
VERSION:2.0
PRODID:-//ChamberMaster//Event Calendar 2.0//EN
METHOD:PUBLISH
X-PUBLISHED-TTL:P3D
REFRESH-INTERVAL:P3D
CALSCALE:GREGORIAN
BEGIN:VEVENT
DTSTART;VALUE=DATE:20260510
DTEND;VALUE=DATE:20260511
TRANSP:TRANSPARENT
X-MICROSOFT-CDO-ALLDAYEVENT:TRUE
SUMMARY:Mother's Day at Marea
DESCRIPTION:Join us on Mother's Day for prix fixe brunch and dinner offerings. A photo booth will be available during brunch to capture those magical memories with mom!\n\nBRUNCH 12:00pm - 3:00pm | DINNER 5:00pm - 9:00pm\n\nReservations
X-ALT-DESC;FMTTYPE=text/html:<p style="text-align:center">Join us on Mother&#39\;s Day for prix fixe brunch and dinner offerings. A photo booth will be available during brunch to capture those magical memories with mom!<br />\nBRUNCH 12:00pm - 3:00pm | DINNER 5:00pm - 9:00pm<br />\n<a href="https://www.sevenrooms.com/explore/mareabeverlyhills/reservations/create/search/?date=2026-05-10&amp\;start_time=ALL&amp\;tracking=pb">Reservations</a></p>\n
LOCATION:430 N Camden Dr\, Beverly Hills\, CA 90210
UID:e.1702.30597
SEQUENCE:3
DTSTAMP:20260421T112226Z
URL:https://members.bhcc2022.zanityusagolivetest.com/events/details/mother-s-day-at-marea-30597
END:VEVENT

END:VCALENDAR
