BEGIN:VCALENDAR
VERSION:2.0
PRODID:-//ChamberMaster//Event Calendar 2.0//EN
METHOD:PUBLISH
X-PUBLISHED-TTL:P3D
REFRESH-INTERVAL:P3D
CALSCALE:GREGORIAN
BEGIN:VEVENT
DTSTART:20090315T220000Z
DTEND:20090316T030000Z
X-MICROSOFT-CDO-ALLDAYEVENT:FALSE
SUMMARY:Murder Madness at the Greystone Mansion
DESCRIPTION:Join Lawry's Catering\, \n    Greystone\n    Mansion\n    \, and Theatre 40 for a rare theatrical experience created and presented especially for \n    \n        Greystone\n        Mansion\n    \n    by Theatre 40.  Audience members will follow the actors through the Mansion's first floor during this tragic family saga.  \n\n\n    After the play\, participants will be treated to a delicious three course prime rib meal\, including wine\, dessert\, catered by Lawry's the Prime Rib.  \n\n\n    Curtain time will be 3:00 pm\, and dinner will be served at 6:00 pm.\n\n\n    Tickets are $155 per person.  Tickets:  (310) 285-6850
X-ALT-DESC;FMTTYPE=text/html:<p>\n    <span style="FONT-SIZE: 10pt\; FONT-FAMILY: Arial\; mso-fareast-font-family: 'Times New Roman'\; mso-bidi-font-family: 'Times New Roman'\; mso-ansi-language: EN-US\; mso-fareast-language: EN-US\; mso-bidi-language: AR-SA"><font face="Georgia" color="#707070" size="3"><?xml:namespace prefix = st1 ns = "urn:schemas-microsoft-com:office:smarttags" />Join Lawry&rsquo\;s Catering\, \n    <st1:PlaceName w:st="on">Greystone</st1:PlaceName>\n    <st1:PlaceType w:st="on">Mansion</st1:PlaceType>\n    \, and Theatre 40 for a rare theatrical experience created and presented especially for \n    <st1:place w:st="on">\n        <st1:PlaceName w:st="on">Greystone</st1:PlaceName>\n        <st1:PlaceType w:st="on">Mansion</st1:PlaceType>\n    </st1:place>\n    by Theatre 40.<span style="mso-spacerun: yes">&nbsp\; </span>Audience members will follow the actors through the Mansion&rsquo\;s first floor during this tragic family saga.<span style="mso-spacerun: yes">&nbsp\; </span></font></span>\n</p>\n<p>\n    <span style="FONT-SIZE: 10pt\; FONT-FAMILY: Arial\; mso-fareast-font-family: 'Times New Roman'\; mso-bidi-font-family: 'Times New Roman'\; mso-ansi-language: EN-US\; mso-fareast-language: EN-US\; mso-bidi-language: AR-SA"><font face="Georgia" color="#707070" size="3">After the play\, participants will be treated to a delicious three course prime rib meal\, including wine\, dessert\, catered by Lawry&rsquo\;s the Prime Rib.<span style="mso-spacerun: yes">&nbsp\; </span></font></span>\n</p>\n<p>\n    <span style="FONT-SIZE: 10pt\; FONT-FAMILY: Arial\; mso-fareast-font-family: 'Times New Roman'\; mso-bidi-font-family: 'Times New Roman'\; mso-ansi-language: EN-US\; mso-fareast-language: EN-US\; mso-bidi-language: AR-SA"><font face="Georgia" color="#707070" size="3"><span style="mso-spacerun: yes">Curtain time will be 3:00 pm\, and dinner will be served at 6:00 pm.</span></font></span>\n</p>\n<p>\n    <span style="FONT-SIZE: 10pt\; FONT-FAMILY: Arial\; mso-fareast-font-family: 'Times New Roman'\; mso-bidi-font-family: 'Times New Roman'\; mso-ansi-language: EN-US\; mso-fareast-language: EN-US\; mso-bidi-language: AR-SA"><font face="Georgia" color="#707070" size="3"><span style="mso-spacerun: yes"></span>Tickets are $155 per person.<span style="mso-spacerun: yes">&nbsp\; </span>Tickets:<span style="mso-spacerun: yes">&nbsp\; </span>(310) 285-6850</font></span> \n</p>
LOCATION:
UID:e.1702.155
SEQUENCE:3
DTSTAMP:20260422T095824Z
URL:https://members.bhcc2022.zanityusagolivetest.com/events/details/murder-madness-at-the-greystone-mansion-03-15-2009-155
END:VEVENT

END:VCALENDAR
