BEGIN:VCALENDAR
VERSION:2.0
PRODID:-//ChamberMaster//Event Calendar 2.0//EN
METHOD:PUBLISH
X-PUBLISHED-TTL:P3D
REFRESH-INTERVAL:P3D
CALSCALE:GREGORIAN
BEGIN:VEVENT
DTSTART:20090326T020000Z
DTEND:20090326T020000Z
X-MICROSOFT-CDO-ALLDAYEVENT:FALSE
SUMMARY:Murder Mystery Dinner - The Case of the Clueless Killers
DESCRIPTION:A murder has been committed at the home of the Huntington-Houseman's\, and the family needs your help to unmask the killer.  $96 per person. Call Ellen for reservations at (310) 360-6281 ext. 4.
X-ALT-DESC;FMTTYPE=text/html:<font face="Georgia" color="#707070" size="4"><span style="COLOR: black\; FONT-FAMILY: 'Footlight MT Light'">A murder has been committed at the home of the Huntington-Houseman&rsquo\;s\, and the family needs your help to unmask the killer.&nbsp\; $96 per person. Call Ellen for reservations at (310) 360-6281 ext. 4.</span></font>
LOCATION:
UID:e.1702.157
SEQUENCE:3
DTSTAMP:20260422T095941Z
URL:https://members.bhcc2022.zanityusagolivetest.com/events/details/murder-mystery-dinner-the-case-of-the-clueless-killers-03-25-2009-157
END:VEVENT

END:VCALENDAR
