BEGIN:VCALENDAR
VERSION:2.0
PRODID:-//ChamberMaster//Event Calendar 2.0//EN
METHOD:PUBLISH
X-PUBLISHED-TTL:P3D
REFRESH-INTERVAL:P3D
CALSCALE:GREGORIAN
BEGIN:VEVENT
DTSTART:20070101T160000Z
DTEND:20071231T160000Z
X-MICROSOFT-CDO-ALLDAYEVENT:FALSE
SUMMARY:Networking Passport 2007
DESCRIPTION:Networking Passport 2007
X-ALT-DESC;FMTTYPE=text/html:Networking Passport 2007
LOCATION:
UID:e.1702.71
SEQUENCE:3
DTSTAMP:20260423T093219Z
URL:https://members.bhcc2022.zanityusagolivetest.com/events/details/networking-passport-2007-01-01-2007-71
END:VEVENT

END:VCALENDAR
