BEGIN:VCALENDAR
VERSION:2.0
PRODID:-//ChamberMaster//Event Calendar 2.0//EN
METHOD:PUBLISH
X-PUBLISHED-TTL:P3D
REFRESH-INTERVAL:P3D
CALSCALE:GREGORIAN
BEGIN:VEVENT
DTSTART;VALUE=DATE:20081101
DTEND;VALUE=DATE:20081201
TRANSP:TRANSPARENT
X-MICROSOFT-CDO-ALLDAYEVENT:TRUE
SUMMARY:November Screenings at The Paley Center for Media
DESCRIPTION:Enjoy the following television screenings in November at The Paley Center for Media:\n\n\n\nNovember 1 – 7 (12:30 pm)\n\nThe Paley Center celebrates the excellence and diversity of the television performances of Sally Field from her early\, light-hearted roles on Gidget and The Flying Nun to her powerful\, Emmy Award-winning acting in Sybil\, ER and Brothers & Sisters.\n\n\n\nTo honor the 90th anniversary of the birth of composer Leonard Bernstein\, the Paley Center is pleased to present ''Bernstein's Broadway\,'' a screening series featuring television adaptations of his shows – Trouble in Tahiti\, Candide\, West Side Story and Wonderful Town. \n\n\n\nSaturday\, November 8 (2:00 pm) – Trouble in Tahiti\n\nSunday\, November 9 (1:30 pm) – Candide\n\nSaturday\, November 15 & 22 (2:00 pm) – West Side Story\n\nSunday\, November 16 & 23 (3:00 pm) – Wonderful Town\n\n\n\nEvery day starting November 12 at 12:15 pm\, enjoy special Thanksgiving-themed programs such as M*A*S*H\, Daniel Boone\, Will & Grace\, Northern Exposure\, Friends\, The Bob Newhart Show\, The Love Boat\, Roseanne\, The Waltons and A Charlie Brown Thanksgiving.  For additional information about screenings and other events at The Paley Center\, visit www.paleycenter.org.
X-ALT-DESC;FMTTYPE=text/html:Enjoy the following television screenings in November at The Paley Center for Media:\n<br><br>\n<b>November 1 – 7</b> (12:30 pm)<br>\nThe Paley Center celebrates the excellence and diversity of the television performances of Sally Field from her early\, light-hearted roles on <i>Gidget</i> and <i>The Flying Nun</i> to her powerful\, Emmy Award-winning acting in <i>Sybil\, ER</i> and <i>Brothers & Sisters</i>.\n<br><br>\nTo honor the 90th anniversary of the birth of composer Leonard Bernstein\, the Paley Center is pleased to present ''Bernstein's Broadway\,'' a screening series featuring television adaptations of his shows – <i>Trouble in Tahiti\, Candide\, West Side Story </i>and <i>Wonderful Town</i>. \n<br><br>\n<b>Saturday\, November 8</b> (2:00 pm) – <i>Trouble in Tahiti</i><br>\n<b>Sunday\, November 9 </b>(1:30 pm) – <i>Candide</i><br>\n<b>Saturday\, November 15 & 22 </b>(2:00 pm) – <i>West Side Story</i><br>\n<b>Sunday\, November 16 & 23 </b>(3:00 pm) – <i>Wonderful Town</i>\n<br><br>\nEvery day starting <b>November 12</b> at 12:15 pm\, enjoy special Thanksgiving-themed programs such as <i>M*A*S*H\, Daniel Boone\, Will & Grace\, Northern Exposure\, Friends\, The Bob Newhart Show\, The Love Boat\, Roseanne\, The Waltons</i> and <i>A Charlie Brown Thanksgiving</i>.  For additional information about screenings and other events at The Paley Center\, visit <a href="http://www.paleycenter.org" target="_blank">www.paleycenter.org</a>.  
LOCATION:
UID:e.1702.106
SEQUENCE:3
DTSTAMP:20260422T155257Z
URL:https://members.bhcc2022.zanityusagolivetest.com/events/details/november-screenings-at-the-paley-center-for-media-11-01-2008-106
END:VEVENT

END:VCALENDAR
