BEGIN:VCALENDAR
VERSION:2.0
PRODID:-//ChamberMaster//Event Calendar 2.0//EN
METHOD:PUBLISH
X-PUBLISHED-TTL:P3D
REFRESH-INTERVAL:P3D
CALSCALE:GREGORIAN
BEGIN:VEVENT
DTSTART:20090418T160000Z
DTEND:20090418T220000Z
X-MICROSOFT-CDO-ALLDAYEVENT:FALSE
SUMMARY:Party - FREE Skin Peels & Other GREAT Give Aways & Discounts!
DESCRIPTION:Spring Cleaning Party!\n\nDull Winter Skin?\nWant to Freshen Up & Look Younger?\n\nWe will Spring Clean Your Skin...FREE\nOne Day Only...\n\nYou Will Receive... \na FREE Organic Enzyme Peel\nmade with Passion Fruit & Peptide\n(safe for all skin types and pregnancy)\n\nJoin Us in Spring Cleaning Our Office Shelves\, You will Receive... \n50-75% off selected Skin Care Products\n\nSaturday\, April 18th\nDoors Open 9:00am - 3:00pm\n\nReceive $50 off Botox coupon\n(limited to the first 10 people who book future botox appointment at party)\n\nDrawings for Latisse - new eyelash extender!\n\nBring A Friend and Receive "Total Anti-Aging Serum" \nWhile Supplies Last ($65 value)\n\nFREE Food\, Refreshments\, & Gift Bags Also Available!\n\nModern Institute of Plastic Surgery & Anti-Aging\nCindy & Julie Kokesch\n310.550.1747\nCall For An Appointment\n\n9090 Burton Way\nBeverly Hills\, CA  90211\n\ninfo@cindykokesch.com\nwww.cindykokesch.com
X-ALT-DESC;FMTTYPE=text/html:Spring Cleaning Party!\n\nDull Winter Skin?\nWant to Freshen Up & Look Younger?\n\nWe will Spring Clean Your Skin...FREE\nOne Day Only...\n\nYou Will Receive... \na FREE Organic Enzyme Peel\nmade with Passion Fruit & Peptide\n(safe for all skin types and pregnancy)\n\nJoin Us in Spring Cleaning Our Office Shelves\, You will Receive... \n50-75% off selected Skin Care Products\n\nSaturday\, April 18th\nDoors Open 9:00am - 3:00pm\n\nReceive $50 off Botox coupon\n(limited to the first 10 people who book future botox appointment at party)\n\nDrawings for Latisse - new eyelash extender!\n\nBring A Friend and Receive "Total Anti-Aging Serum" \nWhile Supplies Last ($65 value)\n\nFREE Food\, Refreshments\, & Gift Bags Also Available!\n\nModern Institute of Plastic Surgery & Anti-Aging\nCindy & Julie Kokesch\n310.550.1747\nCall For An Appointment\n\n9090 Burton Way\nBeverly Hills\, CA  90211\n\ninfo@cindykokesch.com\nwww.cindykokesch.com
LOCATION:Southeast Corner of Doheny Drive & Burton Way. White One-Story Building. "Modern Institute of Plastic Surgery & Anti-Aging".
UID:e.1702.172
SEQUENCE:3
DTSTAMP:20260422T083251Z
URL:https://members.bhcc2022.zanityusagolivetest.com/events/details/party-free-skin-peels-other-great-give-aways-discounts-04-18-2009-172
END:VEVENT

END:VCALENDAR
