BEGIN:VCALENDAR
VERSION:2.0
PRODID:-//ChamberMaster//Event Calendar 2.0//EN
METHOD:PUBLISH
X-PUBLISHED-TTL:P3D
REFRESH-INTERVAL:P3D
CALSCALE:GREGORIAN
BEGIN:VEVENT
DTSTART:20090513T013000Z
DTEND:20090513T033000Z
X-MICROSOFT-CDO-ALLDAYEVENT:FALSE
SUMMARY:Spring LASIK RECEPTION
DESCRIPTION:You and a friend are invited to be our guests at the SPRING LASIK RECEPTION\, hosted by the Assil Eye Institute.  This is an opportunity for you to Throw Away your reading glasses and ask Dr. Assil about  "Reading Vision" LASIK and other vision enhancement procedures.
X-ALT-DESC;FMTTYPE=text/html:You and a friend are invited to be our guests at the SPRING LASIK RECEPTION\, hosted by the Assil Eye Institute.  This is an opportunity for you to Throw Away your reading glasses and ask Dr. Assil about  "Reading Vision" LASIK and other vision enhancement procedures.
LOCATION:450 N. Roxbury Drive\, 3rd Fl Beverly Hills\, CA 90210
UID:e.1702.186
SEQUENCE:3
DTSTAMP:20260422T082322Z
URL:https://members.bhcc2022.zanityusagolivetest.com/events/details/spring-lasik-reception-05-12-2009-186
END:VEVENT

END:VCALENDAR
