BEGIN:VCALENDAR
VERSION:2.0
PRODID:-//ChamberMaster//Event Calendar 2.0//EN
METHOD:PUBLISH
X-PUBLISHED-TTL:P3D
REFRESH-INTERVAL:P3D
CALSCALE:GREGORIAN
BEGIN:VEVENT
DTSTART:20090112T170000Z
DTEND:20090113T010000Z
X-MICROSOFT-CDO-ALLDAYEVENT:FALSE
SUMMARY:Step Up to Leadership Seminar - Only $199.00!
DESCRIPTION:"Tell me what to do\, and I'll do it to protect my job. Make me want to do it\, and I'll do it to the best of my ability."\n\nAnonymous Employee\n\nSupervisors and managers who understand this simple truth and know how to implement it are the ones who create impact in today's organizations. They develop high-performance teams that get results because they know how to lead a team\, not just manage it. \n\nLearn the tools and techniques of successful leadership at Dale Carnegie Training®'s Step Up to Leadership. This program will smooth your transition from employee to manager to leader. Learn how to:\n\n• Resolve conflicts quickly before they affect the whole group\n\n• Listen effectively\n\n• Delegate responsibility\, authority and accountability\n\n• Create stretch goals for yourself and your team members\n\n• Bring out the leadership potential in others\n\n• Give difficult feedback without creating resentment\n\n• Use the Dale Carnegie 5 drivers of success\n\n• Incorporate the 12 qualities of outstanding leaders into your style\n\n• Use RAVE as a performance improvement tool\n\n\nAny supervisor or manager who wants to increase productivity\, lift morale and improve quality should attend. This seminar benefits new supervisors and managers by helping them get off on the right foot and helps veterans make the difficult but necessary transition from managing to leading.
X-ALT-DESC;FMTTYPE=text/html:"Tell me what to do\, and I'll do it to protect my job. Make me want to do it\, and I'll do it to the best of my ability."\n\nAnonymous Employee\n\nSupervisors and managers who understand this simple truth and know how to implement it are the ones who create impact in today's organizations. They develop high-performance teams that get results because they know how to lead a team\, not just manage it. \n\nLearn the tools and techniques of successful leadership at Dale Carnegie Training®'s Step Up to Leadership. This program will smooth your transition from employee to manager to leader. Learn how to:\n\n• Resolve conflicts quickly before they affect the whole group\n\n• Listen effectively\n\n• Delegate responsibility\, authority and accountability\n\n• Create stretch goals for yourself and your team members\n\n• Bring out the leadership potential in others\n\n• Give difficult feedback without creating resentment\n\n• Use the Dale Carnegie 5 drivers of success\n\n• Incorporate the 12 qualities of outstanding leaders into your style\n\n• Use RAVE as a performance improvement tool\n\n\nAny supervisor or manager who wants to increase productivity\, lift morale and improve quality should attend. This seminar benefits new supervisors and managers by helping them get off on the right foot and helps veterans make the difficult but necessary transition from managing to leading.
LOCATION:The event will held at: Downtown Los Angeles Marriott 333 South Figueroa Street Los Angeles\, CA 90071
UID:e.1702.119
SEQUENCE:3
DTSTAMP:20260422T124515Z
URL:https://members.bhcc2022.zanityusagolivetest.com/events/details/step-up-to-leadership-seminar-only-199-00-01-12-2009-119
END:VEVENT

END:VCALENDAR
