BEGIN:VCALENDAR
VERSION:2.0
PRODID:-//ChamberMaster//Event Calendar 2.0//EN
METHOD:PUBLISH
X-PUBLISHED-TTL:P3D
REFRESH-INTERVAL:P3D
CALSCALE:GREGORIAN
BEGIN:VEVENT
DTSTART:20090220T180000Z
DTEND:20090220T220000Z
X-MICROSOFT-CDO-ALLDAYEVENT:FALSE
SUMMARY:Technology-Zone
DESCRIPTION:Oce North America is leading the way for workflow and process change. Come see how these latest solutions can improve your ability to stay competitive in the changing economy!
X-ALT-DESC;FMTTYPE=text/html:Oce North America is leading the way for workflow and process change. Come see how these latest solutions can improve your ability to stay competitive in the changing economy!
LOCATION:1055 West 7th St. Los Angeles\, CA 90017 Downtown Los Angeles SHOWROOM
UID:e.1702.144
SEQUENCE:3
DTSTAMP:20260422T111500Z
URL:https://members.bhcc2022.zanityusagolivetest.com/events/details/technology-zone-02-20-2009-144
END:VEVENT

END:VCALENDAR
