BEGIN:VCALENDAR
VERSION:2.0
PRODID:-//ChamberMaster//Event Calendar 2.0//EN
METHOD:PUBLISH
X-PUBLISHED-TTL:P3D
REFRESH-INTERVAL:P3D
CALSCALE:GREGORIAN
BEGIN:VEVENT
DTSTART:20090503T190000Z
DTEND:20090503T230000Z
X-MICROSOFT-CDO-ALLDAYEVENT:FALSE
SUMMARY:The Beverly Hills Bar Association Vintage Bouquet
DESCRIPTION:Come celebrate the 21st Vintage Bouquet! This year's charity food and wine event hosted by the Beverly Hills Bar Foundation will be held at the magnificent Greystone Mansion\, 905 Loma Vista Dr\, Beverly Hills\, CA  on May 3\, 2009 from 12:00 p.m. to 4:00 p.m..\n\nProceeds from the Vintage Bouquet benefit the Beverly Hills Bar Foundation\, a 501(c)(3) non-profit organization committed to serving the community by providing services.\n\nProceeds also benefit Public Counsel\, the largest public interest law organization in the U.S. that provides free legal services to the community.  It should be noted that the Beverly Hills Bar Association started Public Counsel over 40 years ago.\n\nTickets are $125 each prior to the event and $150 each at the door.  Tickets for the VIP Martini Bar are $175 each.  To order tickets or for more information\, contact Knock Out Productions\, Inc. 818-610-0300 or visit our website at http://www.bhba.org/vb/
X-ALT-DESC;FMTTYPE=text/html:Come celebrate the 21st Vintage Bouquet! This year's charity food and wine event hosted by the Beverly Hills Bar Foundation will be held at the magnificent Greystone Mansion\, 905 Loma Vista Dr\, Beverly Hills\, CA  on May 3\, 2009 from 12:00 p.m. to 4:00 p.m..\n\nProceeds from the Vintage Bouquet benefit the Beverly Hills Bar Foundation\, a 501(c)(3) non-profit organization committed to serving the community by providing services.\n\nProceeds also benefit Public Counsel\, the largest public interest law organization in the U.S. that provides free legal services to the community.  It should be noted that the Beverly Hills Bar Association started Public Counsel over 40 years ago.\n\nTickets are $125 each prior to the event and $150 each at the door.  Tickets for the VIP Martini Bar are $175 each.  To order tickets or for more information\, contact Knock Out Productions\, Inc. 818-610-0300 or visit our website at <a href="http://www.bhba.org/vb/">http://www.bhba.org/vb/</a>\n
LOCATION:
UID:e.1702.165
SEQUENCE:3
DTSTAMP:20260422T065819Z
URL:https://members.bhcc2022.zanityusagolivetest.com/events/details/the-beverly-hills-bar-association-vintage-bouquet-05-03-2009-165
END:VEVENT

END:VCALENDAR
