BEGIN:VCALENDAR
VERSION:2.0
PRODID:-//ChamberMaster//Event Calendar 2.0//EN
METHOD:PUBLISH
X-PUBLISHED-TTL:P3D
REFRESH-INTERVAL:P3D
CALSCALE:GREGORIAN
BEGIN:VEVENT
DTSTART:20090419T160000Z
DTEND:20090419T200000Z
X-MICROSOFT-CDO-ALLDAYEVENT:FALSE
SUMMARY:The City of Beverly Hills' EARTH DAY Celebration
DESCRIPTION:Sno:la Organic Frozen Yogurt is participating in the Earth Day Celebration organized by the City of Beverly Hills again this year in the effort of informing the importance of sustaining the gifts of the Earth.  Sno:la will be offering sample yogurts.
X-ALT-DESC;FMTTYPE=text/html:Sno:la Organic Frozen Yogurt is participating in the Earth Day Celebration organized by the City of Beverly Hills again this year in the effort of informing the importance of sustaining the gifts of the Earth.  Sno:la will be offering sample yogurts.
LOCATION:Civic Center Drive adjacent to the Civic Center Public Parking structure next to the Beverly Hills Farmers Market.
UID:e.1702.173
SEQUENCE:3
DTSTAMP:20260422T083251Z
URL:https://members.bhcc2022.zanityusagolivetest.com/events/details/the-city-of-beverly-hills-earth-day-celebration-04-19-2009-173
END:VEVENT

END:VCALENDAR
