BEGIN:VCALENDAR
VERSION:2.0
PRODID:-//ChamberMaster//Event Calendar 2.0//EN
METHOD:PUBLISH
X-PUBLISHED-TTL:P3D
REFRESH-INTERVAL:P3D
CALSCALE:GREGORIAN
BEGIN:VEVENT
DTSTART:20090625T030000Z
DTEND:20090720T050000Z
X-MICROSOFT-CDO-ALLDAYEVENT:FALSE
SUMMARY:The Voysey Inheritance\, Written By Harley Granville-Barker\, Adapted By David Mamet and Directed By Bruce Gray
DESCRIPTION:The Voysey Inheritance from June 24 – July 19\, 2009.  For generations\, the Voysey family business has been secretly cheating its clients and stealing from the firm's account's – a witty\, impeccably crafted portrait of a family in the midst of a surprisingly modern moral dilemma.  June 24 thru July 19 – Wednesday thru Saturday 8 PM and Sunday at 2 PM.  Wednesday thru Friday $23.  Saturday evening and Sunday Matinee $25.  Reservations: 310-364-0535.  Theatre 40 is a professional theatre company  in residence at the Reuben Cordova Theatre on the campus of Beverly Hills High School.  Please visit us online at: www.Theatre40.org
X-ALT-DESC;FMTTYPE=text/html:The Voysey Inheritance from June 24 – July 19\, 2009.  For generations\, the Voysey family business has been secretly cheating its clients and stealing from the firm's account's – a witty\, impeccably crafted portrait of a family in the midst of a surprisingly modern moral dilemma.  June 24 thru July 19 – Wednesday thru Saturday 8 PM and Sunday at 2 PM.  Wednesday thru Friday $23.  Saturday evening and Sunday Matinee $25.  Reservations: 310-364-0535.  Theatre 40 is a professional theatre company  in residence at the Reuben Cordova Theatre on the campus of Beverly Hills High School.  Please visit us online at: www.Theatre40.org
LOCATION:Reuben Cordova Theatre on the campus of Beverly Hills High School\, 241 Moreno Drive\, Beverly Hills\, CA 90210.
UID:e.1702.201
SEQUENCE:3
DTSTAMP:20260422T034834Z
URL:https://members.bhcc2022.zanityusagolivetest.com/events/details/the-voysey-inheritance-written-by-harley-granville-barker-adapted-by-david-mamet-and-directed-by-bruce-gray-06-24-2009-201
END:VEVENT

END:VCALENDAR
