BEGIN:VCALENDAR
VERSION:2.0
PRODID:-//ChamberMaster//Event Calendar 2.0//EN
METHOD:PUBLISH
X-PUBLISHED-TTL:P3D
REFRESH-INTERVAL:P3D
CALSCALE:GREGORIAN
BEGIN:VEVENT
DTSTART;VALUE=DATE:20081112
DTEND;VALUE=DATE:20081113
TRANSP:TRANSPARENT
X-MICROSOFT-CDO-ALLDAYEVENT:TRUE
SUMMARY:Theatre 40 Presents Violet Sharp
DESCRIPTION:Theatre 40\, Beverly Hills' award winning professional theatre company\, presents Violet Sharp by William Cameron\, running through March 15.  This compelling new play is set against the backdrop of the infamous 1932 Lindbergh kidnapping case.  Violet Sharp\, a young servant living with the Lindbergh family\, finds herself at the heart of the criminal investigation.  The play seeks to unravel the mystery surrounding this notorious crime.  All performances take place at Beverly Hills High School\, 241 Moreno Drive\; matinee performances begin at 2:00 pm – evening performances at 8:00 pm.  For ticket information or reservations\, please call 310-364-0535 or visit www.theatre40.org.
X-ALT-DESC;FMTTYPE=text/html:Theatre 40\, Beverly Hills' award winning professional theatre company\, presents <i>Violet Sharp</i> by William Cameron\, running through March 15.  This compelling new play is set against the backdrop of the infamous 1932 Lindbergh kidnapping case.  Violet Sharp\, a young servant living with the Lindbergh family\, finds herself at the heart of the criminal investigation.  The play seeks to unravel the mystery surrounding this notorious crime.  All performances take place at Beverly Hills High School\, 241 Moreno Drive\; matinee performances begin at 2:00 pm – evening performances at 8:00 pm.  For ticket information or reservations\, please call 310-364-0535 or visit <a href="http://www.theatre40.org" target="_blank">www.theatre40.org.</a>
LOCATION:
UID:e.1702.109
SEQUENCE:3
DTSTAMP:20260422T155210Z
URL:https://members.bhcc2022.zanityusagolivetest.com/events/details/theatre-40-presents-i-violet-sharp-i-11-12-2008-109
END:VEVENT

END:VCALENDAR
