BEGIN:VCALENDAR
VERSION:2.0
PRODID:-//ChamberMaster//Event Calendar 2.0//EN
METHOD:PUBLISH
X-PUBLISHED-TTL:P3D
REFRESH-INTERVAL:P3D
CALSCALE:GREGORIAN
BEGIN:VEVENT
DTSTART:20090219T170000Z
DTEND:20090220T000000Z
X-MICROSOFT-CDO-ALLDAYEVENT:FALSE
SUMMARY:Time To Learn About Your "Heart Truth"- Free Heart Risk Screenings
DESCRIPTION:The Bereliani Institute of Integrative Cardiology is offering free screenings in partnership with The Heart Truth\, a national awareness campaign warning women about their risk of heart disease.  The national campaign is sponsored by the National Heart\, Lung\, and Blood Institute (NHLBI)\, part of the National Institutes of Health (NIH)\, U.S. Department of Health and Human Services (DHHS)\, and other partner organizations Additionally\, The Bereliani Institute of Integrative Cardiology will Go Red and Dress Down on Friday\, February 6 in support of ''Go Red For Women'' to help raise awareness and funds for the lifesaving mission of the American Heart Association
X-ALT-DESC;FMTTYPE=text/html:The Bereliani Institute of Integrative Cardiology is offering free screenings in partnership with The Heart Truth\, a national awareness campaign warning women about their risk of heart disease.  The national campaign is sponsored by the National Heart\, Lung\, and Blood Institute (NHLBI)\, part of the National Institutes of Health (NIH)\, U.S. Department of Health and Human Services (DHHS)\, and other partner organizations Additionally\, The Bereliani Institute of Integrative Cardiology will Go Red and Dress Down on Friday\, February 6 in support of ''Go Red For Women'' to help raise awareness and funds for the lifesaving mission of the American Heart Association
LOCATION:The Bereliani Institute of Cardiology 125 N. Robertson Blvd. Beverly Hills\, CA 90211
UID:e.1702.143
SEQUENCE:3
DTSTAMP:20260422T112324Z
URL:https://members.bhcc2022.zanityusagolivetest.com/events/details/time-to-learn-about-your-heart-truth-free-heart-risk-screenings-02-19-2009-143
END:VEVENT

END:VCALENDAR
