BEGIN:VCALENDAR
VERSION:2.0
PRODID:-//ChamberMaster//Event Calendar 2.0//EN
METHOD:PUBLISH
X-PUBLISHED-TTL:P3D
REFRESH-INTERVAL:P3D
CALSCALE:GREGORIAN
BEGIN:VEVENT
DTSTART:20090520T010000Z
DTEND:20090520T030000Z
X-MICROSOFT-CDO-ALLDAYEVENT:FALSE
SUMMARY:Wine and Antipasti Party
DESCRIPTION:Join us on Tuesday\, May 19th from 6-8pm \nfor a wine-tasting and antipasti party!\n\nWines\n \nCampaccio Terrabianca 2005\nPinot Grigio Lagaria 2007\nMantane Primitivo 2007\nPieropan Soave Classico 2007\n \nToscolo Chianti Classico 2004\n\nAntipasti\nMozzarella Caprese\, Pizzas\, Assorted Crostini\, \nProsciutto on Breadsticks\, Grilled Chicken Skewers\, \nSmoked Salmon rolled with Goat Cheese\, Grilled Shrimp\, Italian Salad on Endives\, Assorted Olives and More!\n\nDessert\nTiramisu\, Profiteroles and Strawberries\n\n$29.95 (plus tax) per person\nContact our event coordinator at:\n310-550-0842 or banquetsbh@ilfo.com\nTo make your reservation today!
X-ALT-DESC;FMTTYPE=text/html:Join us on Tuesday\, May 19th from 6-8pm \nfor a wine-tasting and antipasti party!\n\nWines\n \nCampaccio Terrabianca 2005\nPinot Grigio Lagaria 2007\nMantane Primitivo 2007\nPieropan Soave Classico 2007\n \nToscolo Chianti Classico 2004\n\nAntipasti\nMozzarella Caprese\, Pizzas\, Assorted Crostini\, \nProsciutto on Breadsticks\, Grilled Chicken Skewers\, \nSmoked Salmon rolled with Goat Cheese\, Grilled Shrimp\, Italian Salad on Endives\, Assorted Olives and More!\n\nDessert\nTiramisu\, Profiteroles and Strawberries\n\n$29.95 (plus tax) per person\nContact our event coordinator at:\n310-550-0842 or banquetsbh@ilfo.com\nTo make your reservation today! \n\n\n\n\n
LOCATION:Il Fornaio 301 N. Beverly Dr. Beverly Hills\, CA 90210
UID:e.1702.187
SEQUENCE:3
DTSTAMP:20260422T081549Z
URL:https://members.bhcc2022.zanityusagolivetest.com/events/details/wine-and-antipasti-party-05-19-2009-187
END:VEVENT

END:VCALENDAR
